BEGIN:VCALENDAR
VERSION:2.0
PRODID:-//Amigos del Museo del Traje - ECPv6.15.20//NONSGML v1.0//EN
CALSCALE:GREGORIAN
METHOD:PUBLISH
X-WR-CALNAME:Amigos del Museo del Traje
X-ORIGINAL-URL:https://amigosmuseotraje.com
X-WR-CALDESC:Eventos para Amigos del Museo del Traje
REFRESH-INTERVAL;VALUE=DURATION:PT1H
X-Robots-Tag:noindex
X-PUBLISHED-TTL:PT1H
BEGIN:VTIMEZONE
TZID:Europe/Madrid
BEGIN:DAYLIGHT
TZOFFSETFROM:+0100
TZOFFSETTO:+0200
TZNAME:CEST
DTSTART:20250330T010000
END:DAYLIGHT
BEGIN:STANDARD
TZOFFSETFROM:+0200
TZOFFSETTO:+0100
TZNAME:CET
DTSTART:20251026T010000
END:STANDARD
BEGIN:DAYLIGHT
TZOFFSETFROM:+0100
TZOFFSETTO:+0200
TZNAME:CEST
DTSTART:20260329T010000
END:DAYLIGHT
BEGIN:STANDARD
TZOFFSETFROM:+0200
TZOFFSETTO:+0100
TZNAME:CET
DTSTART:20261025T010000
END:STANDARD
BEGIN:DAYLIGHT
TZOFFSETFROM:+0100
TZOFFSETTO:+0200
TZNAME:CEST
DTSTART:20270328T010000
END:DAYLIGHT
BEGIN:STANDARD
TZOFFSETFROM:+0200
TZOFFSETTO:+0100
TZNAME:CET
DTSTART:20271031T010000
END:STANDARD
END:VTIMEZONE
BEGIN:VEVENT
DTSTART;TZID=Europe/Madrid:20260214T120000
DTEND;TZID=Europe/Madrid:20260214T140000
DTSTAMP:20260420T125432
CREATED:20260201T160132Z
LAST-MODIFIED:20260418T082713Z
UID:9721-1771070400-1771077600@amigosmuseotraje.com
SUMMARY:Sábado de los Amigos: Cristóbal Balenciaga\, Shoes from Spain Tribute. Un homenaje a través del zapato
DESCRIPTION:Presentación del libro catálogo de la primera exposición monográfica sobre Balenciaga celebrada en Milán el pasado año 2025\, tributo al creador vasco: ‘Cristóbal Balenciaga | Shoes from Spain Tribute’. Javier Echeverría Sola\, comisario de la exposición\, nos hará un recorrido por la muestra\, un fascinante diálogo entre los icónicos diseños de Balenciaga\, la artesanía y el calzado español contemporáneo. \nVer enlace a la página web de la exposición y un artículo con fotografías de la misma \nVer vídeo presentación de la exposición en la Federación de Industrias del Calzado Español \nEl libro catálogo está disponible en Amazon \n\n \nCristóbal Balenciaga\n\nMás enlaces sobre Balenciaga: \n\nThe world of Balenciaga: an exhibition / presented by The Metropolitan Museum of Art\, under the auspices of the Government of Spain\, March 23-June 30\, 1973 ; [with Spanish translations by Elizabeth A. Baring.]\nBalenciaga: España a través de su mirada: en el portal oficial de turismo de España
URL:https://amigosmuseotraje.com/event/cristobal-balenciaga-shoes-from-spain-tribute-un-homenaje-a-traves-del-zapato/
LOCATION:Museo del Traje\, Av. Juan de Herrera\, 2\, Madrid\, Madrid\, 28040\, España
CATEGORIES:Sábados de los Amigos
ATTACH;FMTTYPE=image/jpeg:https://amigosmuseotraje.com/wp-content/uploads/2026/02/Balenciaga_Milan-e1769970217328.jpg
END:VEVENT
END:VCALENDAR